﻿BEGIN:VCALENDAR
VERSION:2.0
PRODID:-//Music for everybody - ECPv6.15.14//NONSGML v1.0//EN
CALSCALE:GREGORIAN
METHOD:PUBLISH
X-WR-CALNAME:Music for everybody
X-ORIGINAL-URL:https://music-for-everybody.de
X-WR-CALDESC:Veranstaltungen für Music for everybody
REFRESH-INTERVAL;VALUE=DURATION:PT1H
X-Robots-Tag:noindex
X-PUBLISHED-TTL:PT1H
BEGIN:VTIMEZONE
TZID:Europe/Berlin
BEGIN:DAYLIGHT
TZOFFSETFROM:+0100
TZOFFSETTO:+0200
TZNAME:CEST
DTSTART:20250330T010000
END:DAYLIGHT
BEGIN:STANDARD
TZOFFSETFROM:+0200
TZOFFSETTO:+0100
TZNAME:CET
DTSTART:20251026T010000
END:STANDARD
BEGIN:DAYLIGHT
TZOFFSETFROM:+0100
TZOFFSETTO:+0200
TZNAME:CEST
DTSTART:20260329T010000
END:DAYLIGHT
BEGIN:STANDARD
TZOFFSETFROM:+0200
TZOFFSETTO:+0100
TZNAME:CET
DTSTART:20261025T010000
END:STANDARD
BEGIN:DAYLIGHT
TZOFFSETFROM:+0100
TZOFFSETTO:+0200
TZNAME:CEST
DTSTART:20270328T010000
END:DAYLIGHT
BEGIN:STANDARD
TZOFFSETFROM:+0200
TZOFFSETTO:+0100
TZNAME:CET
DTSTART:20271031T010000
END:STANDARD
END:VTIMEZONE
BEGIN:VEVENT
DTSTART;TZID=Europe/Berlin:20260425T190000
DTEND;TZID=Europe/Berlin:20260425T190000
DTSTAMP:20260421T111033
CREATED:20260126T103548Z
LAST-MODIFIED:20260126T104732Z
UID:3381-1777143600-1777143600@music-for-everybody.de
SUMMARY:Jürgen Perl in der Kulturbude im Vorprogramm von Jenne
DESCRIPTION:Jürgen Perl (Gitarre)
URL:https://music-for-everybody.de/veranstaltung/juergen-perl-in-der-kulturbude-im-vorprogramm-von-jenne/
LOCATION:Kulturbude Naumburg e.V.\, Marienplatz 5\, Naumburg\, 06618
ATTACH;FMTTYPE=image/jpeg:https://music-for-everybody.de/wp-content/uploads/2022/06/Zille-SW-rotated.jpg
END:VEVENT
BEGIN:VEVENT
DTSTART;TZID=Europe/Berlin:20260509T200000
DTEND;TZID=Europe/Berlin:20260509T200000
DTSTAMP:20260421T111033
CREATED:20260126T111046Z
LAST-MODIFIED:20260126T111046Z
UID:3400-1778356800-1778356800@music-for-everybody.de
SUMMARY:PERLenORT im Wald und Wein Café
DESCRIPTION:Susan Ortelt (Saxophon & Querflöte) ••• Jürgen Perl (Gitarre & Saxophon)\nHandgemachte\, akustische Musik für besondere Anlässe – abwechslungsreiches Repertoire an Rock-\, Jazz- & Folk-Songs in Verbindung mit eigenen Arrangements und Kompositionen
URL:https://music-for-everybody.de/veranstaltung/perlenort-im-wald-und-wein-cafe/
LOCATION:Wald und Wein Café\, Klosterstraße 2\, Querfurt\, 06268
ATTACH;FMTTYPE=image/png:https://music-for-everybody.de/wp-content/uploads/2023/07/PERLenORT-Garten-Beitragsbild.png
END:VEVENT
BEGIN:VEVENT
DTSTART;TZID=Europe/Berlin:20260524T140000
DTEND;TZID=Europe/Berlin:20260524T140000
DTSTAMP:20260421T111033
CREATED:20260126T110425Z
LAST-MODIFIED:20260126T110425Z
UID:3395-1779631200-1779631200@music-for-everybody.de
SUMMARY:Hofausschank auf dem Weingut Fehrmann
DESCRIPTION:Susan Ortelt (Saxophon & Querflöte) ••• Jürgen Perl (Gitarre & Saxophon)\nHandgemachte\, akustische Musik für besondere Anlässe – abwechslungsreiches Repertoire an Rock-\, Jazz- & Folk-Songs in Verbindung mit eigenen Arrangements und Kompositionen
URL:https://music-for-everybody.de/veranstaltung/hofausschank-auf-dem-weingut-fehrmann-7/
LOCATION:Haus „Ilse“\, Kauschwitzer Weg 2\, Plauen\, 08547
ATTACH;FMTTYPE=image/png:https://music-for-everybody.de/wp-content/uploads/2023/07/PERLenORT-Garten-Beitragsbild.png
END:VEVENT
BEGIN:VEVENT
DTSTART;TZID=Europe/Berlin:20260617T193000
DTEND;TZID=Europe/Berlin:20260617T193000
DTSTAMP:20260421T111033
CREATED:20251224T153029Z
LAST-MODIFIED:20251224T153654Z
UID:3357-1781724600-1781724600@music-for-everybody.de
SUMMARY:Wahlverwandt im Café Zille
DESCRIPTION:Mario Zoll (Gesang und Gitarre) ••• Stefan Garthoff (Gesang und Melodika) ••• Vinz Mehner (Gesang und Bass) ••• Jürgen Perl (Gesang\, Gitarre\, Saxophon\, Blockflöte\, Mundharmonika) \nDie Band Wahlverwandt nimmt das Publikum mit auf eine Reise\, die irgendwo zwischen fröhlicher Melancholie\, sehnsüchtiger Gelassenheit und quergestreiftem Weltverständnis verläuft. Ihre Musik ist eine Hommage an die Poesie des Alltags und die kleinen\, aber bedeutungsvollen Momente des Lebens.
URL:https://music-for-everybody.de/veranstaltung/wahlverwandt-im-cafe-zille-9/
LOCATION:Zille – Café und Bühne\, Mariengasse 2\, Naumburg\, 06618
ATTACH;FMTTYPE=image/png:https://music-for-everybody.de/wp-content/uploads/2024/10/Wahlverwand-Beitragsbild-temp.png
END:VEVENT
BEGIN:VEVENT
DTSTART;TZID=Europe/Berlin:20260828T190000
DTEND;TZID=Europe/Berlin:20260828T230000
DTSTAMP:20260421T111033
CREATED:20260126T105230Z
LAST-MODIFIED:20260126T105230Z
UID:3392-1787943600-1787958000@music-for-everybody.de
SUMMARY:PERLenORT im Haus Ilse
DESCRIPTION:Susan Ortelt (Saxophon & Querflöte) ••• Jürgen Perl (Gitarre & Saxophon)\nHandgemachte\, akustische Musik für besondere Anlässe – abwechslungsreiches Repertoire an Rock-\, Jazz- & Folk-Songs in Verbindung mit eigenen Arrangements und Kompositionen
URL:https://music-for-everybody.de/veranstaltung/perlenort-im-haus-ilse-4/
LOCATION:Haus „Ilse“\, Kauschwitzer Weg 2\, Plauen\, 08547
ATTACH;FMTTYPE=image/png:https://music-for-everybody.de/wp-content/uploads/2023/07/PERLenORT-Garten-Beitragsbild.png
END:VEVENT
BEGIN:VEVENT
DTSTART;TZID=Europe/Berlin:20261014T193000
DTEND;TZID=Europe/Berlin:20261014T193000
DTSTAMP:20260421T111033
CREATED:20251224T153021Z
LAST-MODIFIED:20251224T153510Z
UID:3362-1792006200-1792006200@music-for-everybody.de
SUMMARY:Wahlverwandt im Café Zille
DESCRIPTION:Mario Zoll (Gesang und Gitarre) ••• Stefan Garthoff (Gesang und Melodika) ••• Vinz Mehner (Gesang und Bass) ••• Jürgen Perl (Gesang\, Gitarre\, Saxophon\, Blockflöte\, Mundharmonika) \nDie Band Wahlverwandt nimmt das Publikum mit auf eine Reise\, die irgendwo zwischen fröhlicher Melancholie\, sehnsüchtiger Gelassenheit und quergestreiftem Weltverständnis verläuft. Ihre Musik ist eine Hommage an die Poesie des Alltags und die kleinen\, aber bedeutungsvollen Momente des Lebens.
URL:https://music-for-everybody.de/veranstaltung/wahlverwandt-im-cafe-zille-8/
LOCATION:Zille – Café und Bühne\, Mariengasse 2\, Naumburg\, 06618
ATTACH;FMTTYPE=image/png:https://music-for-everybody.de/wp-content/uploads/2024/10/Wahlverwand-Beitragsbild-temp.png
END:VEVENT
BEGIN:VEVENT
DTSTART;TZID=Europe/Berlin:20261128T160000
DTEND;TZID=Europe/Berlin:20261128T160000
DTSTAMP:20260421T111033
CREATED:20251224T152949Z
LAST-MODIFIED:20251224T182118Z
UID:3354-1795881600-1795881600@music-for-everybody.de
SUMMARY:Advent in den Höfen: Wahlverwandt im Marientor
DESCRIPTION:Mario Zoll (Gesang und Gitarre) ••• Stefan Garthoff (Gesang und Melodika) ••• Vinz Mehner (Gesang und Bass) ••• Jürgen Perl (Gesang\, Gitarre\, Saxophon\, Blockflöte\, Mundharmonika) \nDie Band Wahlverwandt nimmt das Publikum mit auf eine Reise\, die irgendwo zwischen fröhlicher Melancholie\, sehnsüchtiger Gelassenheit und quergestreiftem Weltverständnis verläuft. Ihre Musik ist eine Hommage an die Poesie des Alltags und die kleinen\, aber bedeutungsvollen Momente des Lebens.
URL:https://music-for-everybody.de/veranstaltung/weihnachtliches-in-den-hoefen-wahlverwandt-im-marientor/
LOCATION:Marientor Naumburg\, Marienplatz\, Naumburg\, 06618
ATTACH;FMTTYPE=image/png:https://music-for-everybody.de/wp-content/uploads/2024/10/Wahlverwand-Beitragsbild-temp.png
END:VEVENT
BEGIN:VEVENT
DTSTART;TZID=Europe/Berlin:20261216T193000
DTEND;TZID=Europe/Berlin:20261216T193000
DTSTAMP:20260421T111033
CREATED:20251224T152945Z
LAST-MODIFIED:20251224T153441Z
UID:3355-1797449400-1797449400@music-for-everybody.de
SUMMARY:Wahlverwandt im Café Zille
DESCRIPTION:Mario Zoll (Gesang und Gitarre) ••• Stefan Garthoff (Gesang und Melodika) ••• Vinz Mehner (Gesang und Bass) ••• Jürgen Perl (Gesang\, Gitarre\, Saxophon\, Blockflöte\, Mundharmonika) \nDie Band Wahlverwandt nimmt das Publikum mit auf eine Reise\, die irgendwo zwischen fröhlicher Melancholie\, sehnsüchtiger Gelassenheit und quergestreiftem Weltverständnis verläuft. Ihre Musik ist eine Hommage an die Poesie des Alltags und die kleinen\, aber bedeutungsvollen Momente des Lebens.
URL:https://music-for-everybody.de/veranstaltung/wahlverwandt-im-cafe-zille-7/
LOCATION:Zille – Café und Bühne\, Mariengasse 2\, Naumburg\, 06618
ATTACH;FMTTYPE=image/png:https://music-for-everybody.de/wp-content/uploads/2024/10/Wahlverwand-Beitragsbild-temp.png
END:VEVENT
END:VCALENDAR